BEGIN:VCALENDAR
VERSION:2.0
PRODID:-//Community Foundation of Randolph County - ECPv6.15.20//NONSGML v1.0//EN
CALSCALE:GREGORIAN
METHOD:PUBLISH
X-WR-CALNAME:Community Foundation of Randolph County
X-ORIGINAL-URL:https://www.randolphcountyfoundation.org
X-WR-CALDESC:Events for Community Foundation of Randolph County
REFRESH-INTERVAL;VALUE=DURATION:PT1H
X-Robots-Tag:noindex
X-PUBLISHED-TTL:PT1H
BEGIN:VTIMEZONE
TZID:America/Indiana/Indianapolis
BEGIN:DAYLIGHT
TZOFFSETFROM:-0500
TZOFFSETTO:-0400
TZNAME:EDT
DTSTART:20250309T070000
END:DAYLIGHT
BEGIN:STANDARD
TZOFFSETFROM:-0400
TZOFFSETTO:-0500
TZNAME:EST
DTSTART:20251102T060000
END:STANDARD
BEGIN:DAYLIGHT
TZOFFSETFROM:-0500
TZOFFSETTO:-0400
TZNAME:EDT
DTSTART:20260308T070000
END:DAYLIGHT
BEGIN:STANDARD
TZOFFSETFROM:-0400
TZOFFSETTO:-0500
TZNAME:EST
DTSTART:20261101T060000
END:STANDARD
BEGIN:DAYLIGHT
TZOFFSETFROM:-0500
TZOFFSETTO:-0400
TZNAME:EDT
DTSTART:20270314T070000
END:DAYLIGHT
BEGIN:STANDARD
TZOFFSETFROM:-0400
TZOFFSETTO:-0500
TZNAME:EST
DTSTART:20271107T060000
END:STANDARD
END:VTIMEZONE
BEGIN:VEVENT
DTSTART;TZID=America/Indiana/Indianapolis:20260409T170000
DTEND;TZID=America/Indiana/Indianapolis:20260409T190000
DTSTAMP:20260421T060959
CREATED:20260312T142512Z
LAST-MODIFIED:20260312T142512Z
UID:25775-1775754000-1775761200@www.randolphcountyfoundation.org
SUMMARY:Dinner at Gran's\, a Fundraiser for the Community Foundation of Randolph County
DESCRIPTION:Buy your Hero a meal and support the Community Foundation of Randolph County’s Randolph County Heroes Fund!\n\nOn Thursday\, April 9\, 2026\, the Community Foundation will partner with Erin Williamson\, owner of Gran’s Kitchen\, for a delicious dinner featuring spaghetti\, salad\, and garlic bread. Dine-in and carryout will be available. . Proceeds from the dinner will support the Randolph County Heroes Fund\, an unrestricted fund used to provide grants to nonprofit organizations serving Randolph County residents.\n\nTickets are $15 per meal and MUST be purchased IN ADVANCE: https://www.randolphcountyfoundation.org/dinner-fundraiser/.
URL:https://www.randolphcountyfoundation.org/event/2026-dinner-at-grans/
LOCATION:Gran’s Kitchen\, 202 S Meridian St\, Winchester\, IN\, 47394
END:VEVENT
END:VCALENDAR